BEGIN:VCALENDAR
VERSION:2.0
PRODID:-//Department Of Education//29e6c838-18f9-42d3-b268-e02280d163d6
BEGIN:VTIMEZONE
TZID:Australia/Sydney
TZURL:http://tzurl.org/zoneinfo-outlook/Australia/Sydney
X-LIC-LOCATION:Australia/Sydney
BEGIN:STANDARD
TZOFFSETFROM:+1100
TZOFFSETTO:+1000
TZNAME:AEST
DTSTART:19700405T030000
RRULE:FREQ=YEARLY;BYMONTH=4;BYDAY=1SU
END:STANDARD
BEGIN:DAYLIGHT
TZOFFSETFROM:+1000
TZOFFSETTO:+1100
TZNAME:AEDT
DTSTART:19701004T020000
RRULE:FREQ=YEARLY;BYMONTH=10;BYDAY=1SU
END:DAYLIGHT
END:VTIMEZONE
CALSCALE:GREGORIAN
X-WR-TIMEZONE:Australia/Sydney
BEGIN:VEVENT
DTSTART;VALUE=DATE:20210223
DTEND;VALUE=DATE:20210224
DTSTAMP:20210223T000000Z
UID:d8f01050-349f-437c-a46d-2b0fe78eb459
LOCATION:Speers Point
SUMMARY;LANGUAGE=en-us:Stage 2 Soccer Gala Day Mixed 
SEQUENCE:0
DESCRIPTION:Studnets wishing to attend have been asked for their names and notes will go home with more information.
END:VEVENT
TRANSP:TRANSPARENT
END:VCALENDAR
