BEGIN:VCALENDAR
VERSION:2.0
PRODID:-//Department Of Education//94a79273-5ebb-4c02-afd4-8123411b5c60
BEGIN:VTIMEZONE
TZID:Australia/Sydney
TZURL:http://tzurl.org/zoneinfo-outlook/Australia/Sydney
X-LIC-LOCATION:Australia/Sydney
BEGIN:STANDARD
TZOFFSETFROM:+1100
TZOFFSETTO:+1000
TZNAME:AEST
DTSTART:19700405T030000
RRULE:FREQ=YEARLY;BYMONTH=4;BYDAY=1SU
END:STANDARD
BEGIN:DAYLIGHT
TZOFFSETFROM:+1000
TZOFFSETTO:+1100
TZNAME:AEDT
DTSTART:19701004T020000
RRULE:FREQ=YEARLY;BYMONTH=10;BYDAY=1SU
END:DAYLIGHT
END:VTIMEZONE
CALSCALE:GREGORIAN
X-WR-TIMEZONE:Australia/Sydney
BEGIN:VEVENT
DTSTART;VALUE=DATE:20210226
DTEND;VALUE=DATE:20210227
DTSTAMP:20210226T000000Z
UID:2d515e2c-4cde-4057-a25d-a2ece84c0d50
LOCATION:TBC
SUMMARY;LANGUAGE=en-us:Westlakes PSSA Zone Basketball trials
SEQUENCE:0
DESCRIPTION:Contact school if your child is interested in attending these trials.
END:VEVENT
TRANSP:TRANSPARENT
END:VCALENDAR
