BEGIN:VCALENDAR
VERSION:2.0
PRODID:-//Department Of Education//d29c7966-47fa-40d6-9c10-57d26bd021a5
BEGIN:VTIMEZONE
TZID:Australia/Sydney
TZURL:http://tzurl.org/zoneinfo-outlook/Australia/Sydney
X-LIC-LOCATION:Australia/Sydney
BEGIN:STANDARD
TZOFFSETFROM:+1100
TZOFFSETTO:+1000
TZNAME:AEST
DTSTART:19700405T030000
RRULE:FREQ=YEARLY;BYMONTH=4;BYDAY=1SU
END:STANDARD
BEGIN:DAYLIGHT
TZOFFSETFROM:+1000
TZOFFSETTO:+1100
TZNAME:AEDT
DTSTART:19701004T020000
RRULE:FREQ=YEARLY;BYMONTH=10;BYDAY=1SU
END:DAYLIGHT
END:VTIMEZONE
CALSCALE:GREGORIAN
X-WR-TIMEZONE:Australia/Sydney
BEGIN:VEVENT
DTSTART;VALUE=DATE:20210224
DTEND;VALUE=DATE:20210225
DTSTAMP:20210224T000000Z
UID:6326edb9-9f48-49e8-a20d-7f80b6fc7a01
LOCATION:Ron Hill Oval Toronto
SUMMARY;LANGUAGE=en-us:Westlakes PSSA Zone Cricket Trials 
SEQUENCE:0
DESCRIPTION:See Mr Briggs if your child is intereted in attending this trial.
END:VEVENT
TRANSP:TRANSPARENT
END:VCALENDAR
