BEGIN:VCALENDAR
VERSION:2.0
PRODID:-//Department Of Education//2aebbad3-dc3c-4ab5-9ff3-9a586c49fb32
BEGIN:VTIMEZONE
TZID:Australia/Sydney
TZURL:http://tzurl.org/zoneinfo-outlook/Australia/Sydney
X-LIC-LOCATION:Australia/Sydney
BEGIN:STANDARD
TZOFFSETFROM:+1100
TZOFFSETTO:+1000
TZNAME:AEST
DTSTART:19700405T030000
RRULE:FREQ=YEARLY;BYMONTH=4;BYDAY=1SU
END:STANDARD
BEGIN:DAYLIGHT
TZOFFSETFROM:+1000
TZOFFSETTO:+1100
TZNAME:AEDT
DTSTART:19701004T020000
RRULE:FREQ=YEARLY;BYMONTH=10;BYDAY=1SU
END:DAYLIGHT
END:VTIMEZONE
CALSCALE:GREGORIAN
X-WR-TIMEZONE:Australia/Sydney
BEGIN:VEVENT
DTSTART;VALUE=DATE:20210319
DTEND;VALUE=DATE:20210320
DTSTAMP:20210319T000000Z
UID:c56f05d8-988a-44d2-8bc7-1694e8a2343e
LOCATION:School
SUMMARY;LANGUAGE=en-us:Cooranbong Cross Country
SEQUENCE:0
DESCRIPTION:School cross country carnival. Please ensure students are in running shoes and clothes and have a drink bottle and hat.
END:VEVENT
TRANSP:TRANSPARENT
END:VCALENDAR
