BEGIN:VCALENDAR
VERSION:2.0
PRODID:-//Department Of Education//2042a7e4-b8b5-4158-b832-16061a1e5562
BEGIN:VTIMEZONE
TZID:Australia/Sydney
TZURL:http://tzurl.org/zoneinfo-outlook/Australia/Sydney
X-LIC-LOCATION:Australia/Sydney
BEGIN:STANDARD
TZOFFSETFROM:+1100
TZOFFSETTO:+1000
TZNAME:AEST
DTSTART:19700405T030000
RRULE:FREQ=YEARLY;BYMONTH=4;BYDAY=1SU
END:STANDARD
BEGIN:DAYLIGHT
TZOFFSETFROM:+1000
TZOFFSETTO:+1100
TZNAME:AEDT
DTSTART:19701004T020000
RRULE:FREQ=YEARLY;BYMONTH=10;BYDAY=1SU
END:DAYLIGHT
END:VTIMEZONE
CALSCALE:GREGORIAN
X-WR-TIMEZONE:Australia/Sydney
BEGIN:VEVENT
DTSTART;VALUE=DATE:20210322
DTEND;VALUE=DATE:20210323
DTSTAMP:20210322T000000Z
UID:a8971b8f-27c8-4d4c-af06-1ff23988bb7f
LOCATION:Schoo 
SUMMARY;LANGUAGE=en-us:Harmony Day
SEQUENCE:0
DESCRIPTION:Activities will be for the students during the normal school hours.
END:VEVENT
TRANSP:TRANSPARENT
END:VCALENDAR
