BEGIN:VCALENDAR
VERSION:2.0
PRODID:-//Department Of Education//ed71517c-ab3c-4f47-a947-f0e48510ed0e
BEGIN:VTIMEZONE
TZID:Australia/Sydney
TZURL:http://tzurl.org/zoneinfo-outlook/Australia/Sydney
X-LIC-LOCATION:Australia/Sydney
BEGIN:STANDARD
TZOFFSETFROM:+1100
TZOFFSETTO:+1000
TZNAME:AEST
DTSTART:19700405T030000
RRULE:FREQ=YEARLY;BYMONTH=4;BYDAY=1SU
END:STANDARD
BEGIN:DAYLIGHT
TZOFFSETFROM:+1000
TZOFFSETTO:+1100
TZNAME:AEDT
DTSTART:19701004T020000
RRULE:FREQ=YEARLY;BYMONTH=10;BYDAY=1SU
END:DAYLIGHT
END:VTIMEZONE
CALSCALE:GREGORIAN
X-WR-TIMEZONE:Australia/Sydney
BEGIN:VEVENT
DTSTART;VALUE=DATE:20210325
DTEND;VALUE=DATE:20210326
DTSTAMP:20210325T000000Z
UID:3f6097fd-7bd7-43f4-b3b9-593e6e8b23ef
LOCATION:Sydney
SUMMARY;LANGUAGE=en-us:National Young Leaders Excursion
SEQUENCE:0
DESCRIPTION:Selected students will travel with Mr Lincoln to attend the Young Leaders Conference. More detail and notes to come.
END:VEVENT
TRANSP:TRANSPARENT
END:VCALENDAR
